BEGIN:VCALENDAR
VERSION:2.0
PRODID:-// - ECPv6.14.2//NONSGML v1.0//EN
CALSCALE:GREGORIAN
METHOD:PUBLISH
X-ORIGINAL-URL:https://grundschule-spaden.de
X-WR-CALDESC:Veranstaltungen für 
REFRESH-INTERVAL;VALUE=DURATION:PT1H
X-Robots-Tag:noindex
X-PUBLISHED-TTL:PT1H
BEGIN:VTIMEZONE
TZID:Europe/Berlin
BEGIN:DAYLIGHT
TZOFFSETFROM:+0100
TZOFFSETTO:+0200
TZNAME:CEST
DTSTART:20250330T010000
END:DAYLIGHT
BEGIN:STANDARD
TZOFFSETFROM:+0200
TZOFFSETTO:+0100
TZNAME:CET
DTSTART:20251026T010000
END:STANDARD
END:VTIMEZONE
BEGIN:VEVENT
DTSTART;TZID=Europe/Berlin:20250905T000000
DTEND;TZID=Europe/Berlin:20250905T000000
DTSTAMP:20260426T053638
CREATED:20250819T061103Z
LAST-MODIFIED:20250819T061103Z
UID:703-1757030400-1757030400@grundschule-spaden.de
SUMMARY:Obstkorb
DESCRIPTION:
URL:https://grundschule-spaden.de/termin/obstkorb-6/
END:VEVENT
BEGIN:VEVENT
DTSTART;TZID=Europe/Berlin:20250915T102000
DTEND;TZID=Europe/Berlin:20250915T112000
DTSTAMP:20260426T053638
CREATED:20250827T103919Z
LAST-MODIFIED:20250827T103919Z
UID:739-1757931600-1757935200@grundschule-spaden.de
SUMMARY:Bücherbus Klassen 3 und 4
DESCRIPTION:
URL:https://grundschule-spaden.de/termin/buecherbus-klassen-3-und-4/
END:VEVENT
BEGIN:VEVENT
DTSTART;TZID=Europe/Berlin:20250923T190000
DTEND;TZID=Europe/Berlin:20250923T200000
DTSTAMP:20260426T053638
CREATED:20250819T064903Z
LAST-MODIFIED:20250819T064903Z
UID:731-1758654000-1758657600@grundschule-spaden.de
SUMMARY:Sitzung Schulelternrat
DESCRIPTION:
URL:https://grundschule-spaden.de/termin/sitzung-schulelternrat-2/
END:VEVENT
BEGIN:VEVENT
DTSTART;TZID=Europe/Berlin:20250926T000000
DTEND;TZID=Europe/Berlin:20250926T000000
DTSTAMP:20260426T053638
CREATED:20250825T052130Z
LAST-MODIFIED:20250825T052130Z
UID:734-1758844800-1758844800@grundschule-spaden.de
SUMMARY:Schulversammlung
DESCRIPTION:
URL:https://grundschule-spaden.de/termin/schulversammlung-11/
END:VEVENT
BEGIN:VEVENT
DTSTART;TZID=Europe/Berlin:20250929T102000
DTEND;TZID=Europe/Berlin:20250929T112000
DTSTAMP:20260426T053638
CREATED:20250827T104011Z
LAST-MODIFIED:20250827T104011Z
UID:741-1759141200-1759144800@grundschule-spaden.de
SUMMARY:Bücherbus Klassen 3 und 4
DESCRIPTION:
URL:https://grundschule-spaden.de/termin/buecherbus-klassen-3-und-4-2/
END:VEVENT
END:VCALENDAR