BEGIN:VCALENDAR
VERSION:2.0
PRODID:-// - ECPv6.14.2//NONSGML v1.0//EN
CALSCALE:GREGORIAN
METHOD:PUBLISH
X-ORIGINAL-URL:https://grundschule-spaden.de
X-WR-CALDESC:Veranstaltungen für 
REFRESH-INTERVAL;VALUE=DURATION:PT1H
X-Robots-Tag:noindex
X-PUBLISHED-TTL:PT1H
BEGIN:VTIMEZONE
TZID:Europe/Berlin
BEGIN:DAYLIGHT
TZOFFSETFROM:+0100
TZOFFSETTO:+0200
TZNAME:CEST
DTSTART:20250330T010000
END:DAYLIGHT
BEGIN:STANDARD
TZOFFSETFROM:+0200
TZOFFSETTO:+0100
TZNAME:CET
DTSTART:20251026T010000
END:STANDARD
END:VTIMEZONE
BEGIN:VEVENT
DTSTART;TZID=Europe/Berlin:20251110T102000
DTEND;TZID=Europe/Berlin:20251110T112000
DTSTAMP:20260426T034914
CREATED:20250827T104206Z
LAST-MODIFIED:20250827T104206Z
UID:745-1762770000-1762773600@grundschule-spaden.de
SUMMARY:Bücherbus Klassen 3 und 4
DESCRIPTION:
URL:https://grundschule-spaden.de/termin/buecherbus-klassen-3-und-4-4/
END:VEVENT
END:VCALENDAR